BEGIN:VCALENDAR
VERSION:2.0
PRODID:-//Goodwill of North Florida - ECPv6.15.20//NONSGML v1.0//EN
CALSCALE:GREGORIAN
METHOD:PUBLISH
X-WR-CALNAME:Goodwill of North Florida
X-ORIGINAL-URL:https://goodwillnorthfl.org
X-WR-CALDESC:Events for Goodwill of North Florida
REFRESH-INTERVAL;VALUE=DURATION:PT1H
X-Robots-Tag:noindex
X-PUBLISHED-TTL:PT1H
BEGIN:VTIMEZONE
TZID:America/New_York
BEGIN:DAYLIGHT
TZOFFSETFROM:-0500
TZOFFSETTO:-0400
TZNAME:EDT
DTSTART:20230312T070000
END:DAYLIGHT
BEGIN:STANDARD
TZOFFSETFROM:-0400
TZOFFSETTO:-0500
TZNAME:EST
DTSTART:20231105T060000
END:STANDARD
BEGIN:DAYLIGHT
TZOFFSETFROM:-0500
TZOFFSETTO:-0400
TZNAME:EDT
DTSTART:20240310T070000
END:DAYLIGHT
BEGIN:STANDARD
TZOFFSETFROM:-0400
TZOFFSETTO:-0500
TZNAME:EST
DTSTART:20241103T060000
END:STANDARD
BEGIN:DAYLIGHT
TZOFFSETFROM:-0500
TZOFFSETTO:-0400
TZNAME:EDT
DTSTART:20250309T070000
END:DAYLIGHT
BEGIN:STANDARD
TZOFFSETFROM:-0400
TZOFFSETTO:-0500
TZNAME:EST
DTSTART:20251102T060000
END:STANDARD
END:VTIMEZONE
BEGIN:VEVENT
DTSTART;TZID=America/New_York:20240326T160000
DTEND;TZID=America/New_York:20240326T190000
DTSTAMP:20260423T190600
CREATED:20240318T123548Z
LAST-MODIFIED:20240318T123636Z
UID:1036-1711468800-1711479600@goodwillnorthfl.org
SUMMARY:Declutter & Donate Event
DESCRIPTION:Join us for a Declutter & Donate event at Keller Williams Realty\, Southside. \n8702 Perimeter Park Boulevard\, Jacksonville\, FL 32216 \nWe will be accepting donations from 4-7 p.m. \nWe are honored to partner with Keller Williams for this opportunity for Spring Cleaning. Here’s your chance to clean out\, shred\, trash\, and most importantly\, donate to Goodwill. Your donations help us remove barriers to employment.
URL:https://goodwillnorthfl.org/event/declutter-donate-event/
END:VEVENT
BEGIN:VEVENT
DTSTART;TZID=America/New_York:20240326T160000
DTEND;TZID=America/New_York:20240326T190000
DTSTAMP:20260423T190600
CREATED:20240216T194742Z
LAST-MODIFIED:20240216T195100Z
UID:1012-1711468800-1711479600@goodwillnorthfl.org
SUMMARY:Declutter & Donate
DESCRIPTION:Join us as we trash\, shred and donate unwanted and needed items!
URL:https://goodwillnorthfl.org/event/declutter-donate/
END:VEVENT
BEGIN:VEVENT
DTSTART;TZID=America/New_York:20240322T083000
DTEND;TZID=America/New_York:20240322T093000
DTSTAMP:20260423T190600
CREATED:20240313T125636Z
LAST-MODIFIED:20240316T224832Z
UID:1026-1711096200-1711099800@goodwillnorthfl.org
SUMMARY:Westover Station Ribbon Cutting
DESCRIPTION:Join us for the Ribbon Cutting Ceremony for our 21st Donation Center. \nWestover Station \n3555 U.S. 17\, Suite #5\, Fleming Island\, FL 32003
URL:https://goodwillnorthfl.org/event/westover-station-ribbon-cutting/
LOCATION:3555 U.S. 17\, Suite #5\, Fleming Island\, FL\, 3555 U.S. 17\, Suite #5\, Fleming Island\, FL\, 32003\, United States
END:VEVENT
END:VCALENDAR